BEGIN:VCALENDAR
VERSION:2.0
PRODID:-//Gitarrenunterricht Hamburg | Guido Bungenstock, Professioneller Gitarrist, Kemper Amp Profiles - ECPv6.15.20//NONSGML v1.0//EN
CALSCALE:GREGORIAN
METHOD:PUBLISH
X-ORIGINAL-URL:https://www.guidorist.com
X-WR-CALDESC:Veranstaltungen für Gitarrenunterricht Hamburg | Guido Bungenstock, Professioneller Gitarrist, Kemper Amp Profiles
REFRESH-INTERVAL;VALUE=DURATION:PT1H
X-Robots-Tag:noindex
X-PUBLISHED-TTL:PT1H
BEGIN:VTIMEZONE
TZID:Europe/Berlin
BEGIN:DAYLIGHT
TZOFFSETFROM:+0100
TZOFFSETTO:+0200
TZNAME:CEST
DTSTART:20250330T010000
END:DAYLIGHT
BEGIN:STANDARD
TZOFFSETFROM:+0200
TZOFFSETTO:+0100
TZNAME:CET
DTSTART:20251026T010000
END:STANDARD
BEGIN:DAYLIGHT
TZOFFSETFROM:+0100
TZOFFSETTO:+0200
TZNAME:CEST
DTSTART:20260329T010000
END:DAYLIGHT
BEGIN:STANDARD
TZOFFSETFROM:+0200
TZOFFSETTO:+0100
TZNAME:CET
DTSTART:20261025T010000
END:STANDARD
BEGIN:DAYLIGHT
TZOFFSETFROM:+0100
TZOFFSETTO:+0200
TZNAME:CEST
DTSTART:20270328T010000
END:DAYLIGHT
BEGIN:STANDARD
TZOFFSETFROM:+0200
TZOFFSETTO:+0100
TZNAME:CET
DTSTART:20271031T010000
END:STANDARD
END:VTIMEZONE
BEGIN:VEVENT
DTSTART;TZID=Europe/Berlin:20260110T180000
DTEND;TZID=Europe/Berlin:20260110T210000
DTSTAMP:20260422T104806
CREATED:20251207T141411Z
LAST-MODIFIED:20260106T153117Z
UID:15177-1768068000-1768078800@www.guidorist.com
SUMMARY:Acoustic Waves | Feat. Stephanie Hundertmark
DESCRIPTION:Acoustic Waves aus Hamburg\, diesmal an der Seite von Stephanie Hundertmark (Vargo)\, bieten ausgesuchte Pop Klassiker in einem stilvollen Rahmen abgestimmt auf individuellen Wünsche. Die langjährige Erfahrung der professionellen Musiker verspricht unvergessliche musikalische Stunden für besondere Events wie Hochzeiten\, Geburtstage\, Firmenfeiern etc. \nStephanie Hundertmark sang als Studiomusikerin für diverse Fernseh-\, Werbe- und CD-Produktionen und erlebte ihre ersten Radio-\, Fernseh- und Auslandsauftritte mit der A-cappella-Band Five Live. Im Jahr 2001 entdeckte sie der Hamburger Produzent Ansgar Üffink für sein gerade gegründetes Ambient-Projekt Vargo und veröffentlichte mit ihr Ende 2004 das Album Beauty. Hundertmarks Solo-Album Wishlist fertigte sie zusammen mit dem Produzententeam von Bluwi.  Nach zwei weiteren Vargo-Alben\, Precious (2010) und Goodbye Is A New Beginning(2014) konzentrierte sich sie wieder auf ihre Songwriting-Talente: Für ihre eigenen Werke buchte sie 2015 den kanadischen Produzenten Joby Baker\, dessen Aufnahmen bereits für den Grammy\, Latin Grammy und Juno Award nominiert wurden und reiste zur Produktion ihres zweiten Solo-Albums in dessen Baker Studios nach Vancouver Island. Im Mai 2017 wurde schließlich ihr dort produziertes Solo-Album Enjoy The View unter dem Vargo-Label Ambient Domain veröffentlicht.
URL:https://www.guidorist.com/event/acoustic-waves-soul-pop-13/
LOCATION:Bar Italia\, Hamburg\, Deutschland
ATTACH;FMTTYPE=image/jpeg:https://www.guidorist.com/wp-content/uploads/2025/12/Acoustic-Waves-8.jpg
END:VEVENT
BEGIN:VEVENT
DTSTART;TZID=Europe/Berlin:20260115T180000
DTEND;TZID=Europe/Berlin:20260115T210000
DTSTAMP:20260422T104806
CREATED:20260107T114205Z
LAST-MODIFIED:20260107T114314Z
UID:15275-1768500000-1768510800@www.guidorist.com
SUMMARY:Volkan Baydar & Friends | Soul Thursday
DESCRIPTION:Volkan Maydar (Vocals\, Percussion) \nDie Musik war schon immer ein Teil von ihm. Er sang schon\, bevor er überhaupt sprechen konnte. Auch seinen Eltern ist das nicht entgangen\, die immer versuchten\, ihm und seinem Bruder Tayfun viel zu ermöglichen\, So bekam er als Teenager in den 80ern einen ersten Vierspurrekorder\, um seine ersten eigenen Songs festhalten zu können – inspiriert von Soul-Größen wie Stevie Wonder\, Michael Jackson und Terence Trent D’Arby. \nMit 20 lernte er  dann seinen Orange Blue-Partner Vince Bahrdt über eine Anzeige kennen und der Rest ist Geschichte: Nach einem Ausflug an der Stage School Hamburg\, einem Schauspielstudium in New York und seiner ersten Hauptrolle im Musical „Pico“ kam 2000 schließlich der große Durchbruch mit Orange Blue. Seinen musikalischen Wurzeln ist er dabei immer treu geblieben. \n  \nGuido Bungenstock (Gitarre) \nEr absolvierte sein Studium am Münchner Gitarreninstitut und ist seit über 25 Jahren erfolgreich als Privatlehrer\, Gastdozent an der Hamburg School Of Music  und als Workshopleiter deutschlandweit tätig. Er produzierte über 130 Gitarrenlern-Videos für eines der größten Guitar Online Portale. \nDer versierte Gitarrist ist auf zahlreichen Rock & Pop Produktionen vertreten sowie Live- und Studiomusiker für internationale Künstler wie David Garfield (Steve Lukather\, George Benson\, Los Lobotomys)\, Jack Thammarat\, Vinai Trinateepakdee\, Onita Boone\, Terri Green\, Kosho (Söhne Mannheims)\, Rick Latham (Edgar Winter)\, Uli Kusch (Helloween\, Masterplan)\, Fanfields (Toto Tribute)\, Benny Greb\, Otto Waalkes\, Frank Briggs\, Sylvan u.v.a. tätig. \n  \nNancho Campos (Drums) \nGeboren in Santiago/Chile und seit 1987 tourt er als Schlagzeuger und Percussionist mit Tony Sheridan\, Geff Harrison\, Wayne Morris\, Lee Curtis\, Johnny Logan\, Angelo Kelly\, Tony Christie\, Hugo Egon Balder und viele mehr. \n  \nHeinz Lichius (Bass) \nDer gebürtige Niederländer hatte ab dem elften Lebensjahr Schlagzeugunterricht. Er absolvierte 1990 ein Jazzstudium an der Hochschule für Musik und Theater\, Hamburg. Neben seiner großen Leidenschaft als Drummer ist er außerdem noch ein hervorragender Bassist. Folgenden Bands verlieh der viel beschäftigte Musiker mit seinem Groove das Fundament: NDR Bigband\, HR Bigband\, Ulita Knaus\, Jonas Schoen\, Jürgen Attig\, Jo Gallardo\, Jon Hammond\, Roland Cabezas\, Side By Side\, Ulla Meinecke und Orange Blue \n 
URL:https://www.guidorist.com/event/volkan-baydar-friends-soul-thursday/
LOCATION:Bar Italia\, Hamburg\, Deutschland
ATTACH;FMTTYPE=image/jpeg:https://www.guidorist.com/wp-content/uploads/2026/01/Volkan-Friends.jpg
END:VEVENT
END:VCALENDAR