BEGIN:VCALENDAR
VERSION:2.0
PRODID:-//Gitarrenunterricht Hamburg | Guido Bungenstock, Professioneller Gitarrist, Kemper Amp Profiles - ECPv6.15.20//NONSGML v1.0//EN
CALSCALE:GREGORIAN
METHOD:PUBLISH
X-ORIGINAL-URL:https://www.guidorist.com
X-WR-CALDESC:Veranstaltungen für Gitarrenunterricht Hamburg | Guido Bungenstock, Professioneller Gitarrist, Kemper Amp Profiles
REFRESH-INTERVAL;VALUE=DURATION:PT1H
X-Robots-Tag:noindex
X-PUBLISHED-TTL:PT1H
BEGIN:VTIMEZONE
TZID:Europe/Berlin
BEGIN:DAYLIGHT
TZOFFSETFROM:+0100
TZOFFSETTO:+0200
TZNAME:CEST
DTSTART:20240331T010000
END:DAYLIGHT
BEGIN:STANDARD
TZOFFSETFROM:+0200
TZOFFSETTO:+0100
TZNAME:CET
DTSTART:20241027T010000
END:STANDARD
BEGIN:DAYLIGHT
TZOFFSETFROM:+0100
TZOFFSETTO:+0200
TZNAME:CEST
DTSTART:20250330T010000
END:DAYLIGHT
BEGIN:STANDARD
TZOFFSETFROM:+0200
TZOFFSETTO:+0100
TZNAME:CET
DTSTART:20251026T010000
END:STANDARD
BEGIN:DAYLIGHT
TZOFFSETFROM:+0100
TZOFFSETTO:+0200
TZNAME:CEST
DTSTART:20260329T010000
END:DAYLIGHT
BEGIN:STANDARD
TZOFFSETFROM:+0200
TZOFFSETTO:+0100
TZNAME:CET
DTSTART:20261025T010000
END:STANDARD
END:VTIMEZONE
BEGIN:VEVENT
DTSTART;TZID=Europe/Berlin:20250802T120000
DTEND;TZID=Europe/Berlin:20250802T151500
DTSTAMP:20260422T181724
CREATED:20250911T131510Z
LAST-MODIFIED:20250911T134512Z
UID:15078-1754136000-1754147700@www.guidorist.com
SUMMARY:Modern Rock Guitar | Online Workshop 1
DESCRIPTION:Hast Du nicht manchmal das Gefühl Du steckst irgendwie in deinem Gitarrenspiel fest und weißt nicht wie Du weiterkommst oder willst alte Lernroutinen endlich mal durchbrechen? Oder einfach ein paar coole neue Rocklicks á la Lukather\, Beck & Co. lernen?\nDann ist dieser Modern Rock Guitar | Online Workshop mit Guido Bungenstock bestimmt genau das richtige für dich! \nDer Online Workshop findet am 2. August 2025 um 12:00 statt und dauert 180 Minuten
URL:https://www.guidorist.com/event/modern-rock-guitar-online-workshop-1/
LOCATION:Online\, Germany
ATTACH;FMTTYPE=image/jpeg:https://www.guidorist.com/wp-content/uploads/2025/07/MRG-Online-Workshop-5.jpg
END:VEVENT
BEGIN:VEVENT
DTSTART;TZID=Europe/Berlin:20250809T180000
DTEND;TZID=Europe/Berlin:20250809T210000
DTSTAMP:20260422T181724
CREATED:20250729T144815Z
LAST-MODIFIED:20250729T145210Z
UID:14924-1754762400-1754773200@www.guidorist.com
SUMMARY:Terri Green | Feat. Dynelle Rhodes
DESCRIPTION:Terri Green verschmilzt klassischen Soul mit dem heutigen R&B. Die Songwriterin\, Sängerin und Produzentin Terri Green hat zusammen mit dem Komponisten\, Arrangeur und Saxophonisten Toddi Reed alias Torsten Abrolat ihren Groove gefunden und ihre Band an die Spitze der UK Soul und US Indie Soul Charts geführt und das Feuer seit ihrem ersten #1 “Song Night To Remember” in den UK Soul Charts im Jahr 2019 am Brennen gehalten. Gefolgt von ihrem zweiten Album “What A Feeling”\, das ebenfalls Platz 1 der UK Soul Charts erreichte\, erreichten sie mit “Never Gonna Let” ihre erste #1 – Indie Soul Chart Platzierung. Es scheint\, dass die Räder in Bewegung gesetzt werden. \nDynelle Rhodes (Tochter von Izora Armstead Rhodes) ist die Nummer 4 von 11 Kindern\, die in San Francisco\, Kalifornien\, geboren und aufgewachsen sind. Dynelle tourte von den 90er Jahren bis 2004 mit ihrer Mutter als das berühmte Duo “The Weather Girls”\, das durch den Hit “It’s Raining Men” weltbekannt wurde \nAls Gäste Guido Bungenstock und Bianca von Bötticher \n 
URL:https://www.guidorist.com/event/terri-green-feat-dynelle-rhodes/
LOCATION:Bar Italia\, Hamburg\, Deutschland
ATTACH;FMTTYPE=image/jpeg:https://www.guidorist.com/wp-content/uploads/2025/07/Terri-Dynelle.jpg
END:VEVENT
BEGIN:VEVENT
DTSTART;TZID=Europe/Berlin:20250829T180000
DTEND;TZID=Europe/Berlin:20250829T210000
DTSTAMP:20260422T181724
CREATED:20250716T180441Z
LAST-MODIFIED:20250716T180441Z
UID:14795-1756490400-1756501200@www.guidorist.com
SUMMARY:Acoustic Waves | Soul & Pop
DESCRIPTION:Acoustic Waves aus Hamburg\, diesmal an der Seite von Volkan Baydar (Orange Blue)\, bieten ausgesuchte Pop Klassiker in einem stilvollen Rahmen abgestimmt auf individuellen Wünsche. Die langjährige Erfahrung der professionellen Musiker verspricht unvergessliche musikalische Stunden für besondere Events wie Hochzeiten\, Geburtstage\, Firmenfeiern etc.
URL:https://www.guidorist.com/event/acoustic-waves-soul-pop-10/
LOCATION:Bar Italia\, Hamburg\, Deutschland
ATTACH;FMTTYPE=image/jpeg:https://www.guidorist.com/wp-content/uploads/2024/11/Acoustic-Waves-8-Volkan.jpg
END:VEVENT
END:VCALENDAR