BEGIN:VCALENDAR
VERSION:2.0
PRODID:-//Gitarrenunterricht Hamburg | Guido Bungenstock, Professioneller Gitarrist, Kemper Amp Profiles - ECPv6.15.20//NONSGML v1.0//EN
CALSCALE:GREGORIAN
METHOD:PUBLISH
X-WR-CALNAME:Gitarrenunterricht Hamburg | Guido Bungenstock, Professioneller Gitarrist, Kemper Amp Profiles
X-ORIGINAL-URL:https://www.guidorist.com
X-WR-CALDESC:Veranstaltungen für Gitarrenunterricht Hamburg | Guido Bungenstock, Professioneller Gitarrist, Kemper Amp Profiles
REFRESH-INTERVAL;VALUE=DURATION:PT1H
X-Robots-Tag:noindex
X-PUBLISHED-TTL:PT1H
BEGIN:VTIMEZONE
TZID:Europe/Berlin
BEGIN:DAYLIGHT
TZOFFSETFROM:+0100
TZOFFSETTO:+0200
TZNAME:CEST
DTSTART:20240331T010000
END:DAYLIGHT
BEGIN:STANDARD
TZOFFSETFROM:+0200
TZOFFSETTO:+0100
TZNAME:CET
DTSTART:20241027T010000
END:STANDARD
BEGIN:DAYLIGHT
TZOFFSETFROM:+0100
TZOFFSETTO:+0200
TZNAME:CEST
DTSTART:20250330T010000
END:DAYLIGHT
BEGIN:STANDARD
TZOFFSETFROM:+0200
TZOFFSETTO:+0100
TZNAME:CET
DTSTART:20251026T010000
END:STANDARD
BEGIN:DAYLIGHT
TZOFFSETFROM:+0100
TZOFFSETTO:+0200
TZNAME:CEST
DTSTART:20260329T010000
END:DAYLIGHT
BEGIN:STANDARD
TZOFFSETFROM:+0200
TZOFFSETTO:+0100
TZNAME:CET
DTSTART:20261025T010000
END:STANDARD
END:VTIMEZONE
BEGIN:VEVENT
DTSTART;TZID=Europe/Berlin:20250508T180000
DTEND;TZID=Europe/Berlin:20250508T210000
DTSTAMP:20260422T221453
CREATED:20250306T125436Z
LAST-MODIFIED:20250526T110901Z
UID:14623-1746727200-1746738000@www.guidorist.com
SUMMARY:Acoustic Waves | Soul & Pop
DESCRIPTION:Acoustic Waves aus Hamburg\, diesmal an der Seite von Volkan Baydar (Orange Blue)\, bieten ausgesuchte Pop Klassiker in einem stilvollen Rahmen abgestimmt auf individuellen Wünsche. Die langjährige Erfahrung der professionellen Musiker verspricht unvergessliche musikalische Stunden für besondere Events wie Hochzeiten\, Geburtstage\, Firmenfeiern etc.
URL:https://www.guidorist.com/event/acoustic-waves-soul-pop-8/
LOCATION:Bar Italia\, Hamburg\, Deutschland
ATTACH;FMTTYPE=image/jpeg:https://www.guidorist.com/wp-content/uploads/2024/11/Acoustic-Waves-8-Volkan.jpg
END:VEVENT
BEGIN:VEVENT
DTSTART;TZID=Europe/Berlin:20250523T200000
DTEND;TZID=Europe/Berlin:20250523T220000
DTSTAMP:20260422T221453
CREATED:20241217T140218Z
LAST-MODIFIED:20250306T125708Z
UID:14432-1748030400-1748037600@www.guidorist.com
SUMMARY:Terri Green | Steglitzer Woche
DESCRIPTION:Das Terri Green Project verschmilzt klassischen Soul mit dem heutigen R&B. Die Songwriterin\, Sängerin und Produzentin Terri Green hat zusammen mit dem Komponisten\, Arrangeur und Saxophonisten Toddi Reed alias Torsten Abrolat ihren Groove gefunden und ihre Band an die Spitze der UK Soul und US Indie Soul Charts geführt und das Feuer seit ihrem ersten #1 “Song Night To Remember” in den UK Soul Charts im Jahr 2019 am Brennen gehalten. Gefolgt von ihrem zweiten Album “What A Feeling”\, das ebenfalls Platz 1 der UK Soul Charts erreichte\, erreichten sie mit “Never Gonna Let” ihre erste #1 – Indie Soul Chart Platzierung. Es scheint\, dass die Räder in Bewegung gesetzt werden.
URL:https://www.guidorist.com/event/terri-green-steglitzer-woche/
LOCATION:Berlin | Steglitzer Woche\, Bäkestraße\, Berlin\, 12207\, Deutschland
ATTACH;FMTTYPE=image/jpeg:https://www.guidorist.com/wp-content/uploads/2023/09/364192596_730235832426290_7179930184175594608_n.jpg
END:VEVENT
BEGIN:VEVENT
DTSTART;TZID=Europe/Berlin:20250529T180000
DTEND;TZID=Europe/Berlin:20250529T210000
DTSTAMP:20260422T221453
CREATED:20250521T153705Z
LAST-MODIFIED:20250521T153705Z
UID:14723-1748541600-1748552400@www.guidorist.com
SUMMARY:Volkan Baydar & Friends | Jazz & Soul
DESCRIPTION:Volkan Maydar (Vocals\, Percussion) \nDie Musik war schon immer ein Teil von ihm. Er sang schon\, bevor er überhaupt sprechen konnte. Auch seinen Eltern ist das nicht entgangen\, die immer versuchten\, ihm und seinem Bruder Tayfun viel zu ermöglichen\, So bekam er als Teenager in den 80ern einen ersten Vierspurrekorder\, um seine ersten eigenen Songs festhalten zu können – inspiriert von Soul-Größen wie Stevie Wonder\, Michael Jackson und Terence Trent D’Arby. \nMit 20 lernte er  dann seinen Orange Blue-Partner Vince Bahrdt über eine Anzeige kennen und der Rest ist Geschichte: Nach einem Ausflug an der Stage School Hamburg\, einem Schauspielstudium in New York und seiner ersten Hauptrolle im Musical „Pico“ kam 2000 schließlich der große Durchbruch mit Orange Blue. Seinen musikalischen Wurzeln ist er dabei immer treu geblieben. \n  \nGuido Bungenstock (Gitarre) \nEr absolvierte sein Studium am Münchner Gitarreninstitut und ist seit über 25 Jahren erfolgreich als Privatlehrer\, Gastdozent an der Hamburg School Of Music  und als Workshopleiter deutschlandweit tätig. Er produzierte über 130 Gitarrenlern-Videos für eines der größten Guitar Online Portale. \nDer versierte Gitarrist ist auf zahlreichen Rock & Pop Produktionen vertreten sowie Live- und Studiomusiker für internationale Künstler wie David Garfield (Steve Lukather\, George Benson\, Los Lobotomys)\, Jack Thammarat\, Vinai Trinateepakdee\, Onita Boone\, Terri Green\, Kosho (Söhne Mannheims)\, Rick Latham (Edgar Winter)\, Uli Kusch (Helloween\, Masterplan)\, Fanfields (Toto Tribute)\, Benny Greb\, Otto Waalkes\, Frank Briggs\, Sylvan u.v.a. tätig. \n  \nNancho Campos (Drums) \nGeboren in Santiago/Chile und seit 1987 tourt er als Schlagzeuger und Percussionist mit Tony Sheridan\, Geff Harrison\, Wayne Morris\, Lee Curtis\, Johnny Logan\, Angelo Kelly\, Tony Christie\, Hugo Egon Balder und viele mehr. \n  \nKurt Buschmann (Sax) \nEin international bekannter Saxophonist\, der auf mehr als 25 CDs von Jazz über Blues bis hin zu Weltmusik\, sowie mit Lyrik und Kurzprosa in diversen Anthologien\, Fachzeitschriften und im selbst verlegten Lyrikband “stillos verdichtet“ zu hören und zu lesen ist. Er spielte bereits mit vielen internationalen Jazz und Blues Größen und ist ein Poet auf seinem Instrument. \n 
URL:https://www.guidorist.com/event/volkan-baydar-friends-jazz-soul/
LOCATION:Bar Italia\, Hamburg\, Deutschland
ATTACH;FMTTYPE=image/jpeg:https://www.guidorist.com/wp-content/uploads/2025/05/Volkan-Friends-2.jpg
END:VEVENT
END:VCALENDAR