BEGIN:VCALENDAR
VERSION:2.0
PRODID:-//Gitarrenunterricht Hamburg | Guido Bungenstock, Professioneller Gitarrist, Kemper Amp Profiles - ECPv6.15.20//NONSGML v1.0//EN
CALSCALE:GREGORIAN
METHOD:PUBLISH
X-WR-CALNAME:Gitarrenunterricht Hamburg | Guido Bungenstock, Professioneller Gitarrist, Kemper Amp Profiles
X-ORIGINAL-URL:https://www.guidorist.com
X-WR-CALDESC:Veranstaltungen für Gitarrenunterricht Hamburg | Guido Bungenstock, Professioneller Gitarrist, Kemper Amp Profiles
REFRESH-INTERVAL;VALUE=DURATION:PT1H
X-Robots-Tag:noindex
X-PUBLISHED-TTL:PT1H
BEGIN:VTIMEZONE
TZID:Europe/Berlin
BEGIN:DAYLIGHT
TZOFFSETFROM:+0100
TZOFFSETTO:+0200
TZNAME:CEST
DTSTART:20240331T010000
END:DAYLIGHT
BEGIN:STANDARD
TZOFFSETFROM:+0200
TZOFFSETTO:+0100
TZNAME:CET
DTSTART:20241027T010000
END:STANDARD
BEGIN:DAYLIGHT
TZOFFSETFROM:+0100
TZOFFSETTO:+0200
TZNAME:CEST
DTSTART:20250330T010000
END:DAYLIGHT
BEGIN:STANDARD
TZOFFSETFROM:+0200
TZOFFSETTO:+0100
TZNAME:CET
DTSTART:20251026T010000
END:STANDARD
BEGIN:DAYLIGHT
TZOFFSETFROM:+0100
TZOFFSETTO:+0200
TZNAME:CEST
DTSTART:20260329T010000
END:DAYLIGHT
BEGIN:STANDARD
TZOFFSETFROM:+0200
TZOFFSETTO:+0100
TZNAME:CET
DTSTART:20261025T010000
END:STANDARD
END:VTIMEZONE
BEGIN:VEVENT
DTSTART;TZID=Europe/Berlin:20250201T180000
DTEND;TZID=Europe/Berlin:20250201T210000
DTSTAMP:20260423T023133
CREATED:20241201T105213Z
LAST-MODIFIED:20250123T152030Z
UID:14411-1738432800-1738443600@www.guidorist.com
SUMMARY:Bi2music & Band | Soul & more
DESCRIPTION:Bianca von Boetticher aka  Bi2music feat. Guido Bungenstock\, Boris Vasiljevic & Volkan Maydar \nIhr Mittel lautet: Free your voice and the rest will follow!\n“So singe ich schon seit über 25 Jahren in verschiedenen Bandprojekten\, an der Front\, wie auch im Backing\, bei Terri Green und The Terri Green Project seit Beginn 2018. Musik verbindet Menschen und schafft magische Momente und unvergessliche Abende. Musik & Gesang sind meine Power für mein Daily und ich fühle mich im Soul und Rock genauso wohl\, wie auch im Jazz und Pop`\, sagt sie.
URL:https://www.guidorist.com/event/bi2music-band-soul-more/
LOCATION:Bar Italia\, Hamburg\, Deutschland
ATTACH;FMTTYPE=image/jpeg:https://www.guidorist.com/wp-content/uploads/2024/11/Bianca-Band.jpg
END:VEVENT
END:VCALENDAR