BEGIN:VCALENDAR
VERSION:2.0
PRODID:-//Gitarrenunterricht Hamburg | Guido Bungenstock, Professioneller Gitarrist, Kemper Amp Profiles - ECPv6.15.20//NONSGML v1.0//EN
CALSCALE:GREGORIAN
METHOD:PUBLISH
X-WR-CALNAME:Gitarrenunterricht Hamburg | Guido Bungenstock, Professioneller Gitarrist, Kemper Amp Profiles
X-ORIGINAL-URL:https://www.guidorist.com
X-WR-CALDESC:Veranstaltungen für Gitarrenunterricht Hamburg | Guido Bungenstock, Professioneller Gitarrist, Kemper Amp Profiles
REFRESH-INTERVAL;VALUE=DURATION:PT1H
X-Robots-Tag:noindex
X-PUBLISHED-TTL:PT1H
BEGIN:VTIMEZONE
TZID:Europe/Berlin
BEGIN:DAYLIGHT
TZOFFSETFROM:+0100
TZOFFSETTO:+0200
TZNAME:CEST
DTSTART:20240331T010000
END:DAYLIGHT
BEGIN:STANDARD
TZOFFSETFROM:+0200
TZOFFSETTO:+0100
TZNAME:CET
DTSTART:20241027T010000
END:STANDARD
BEGIN:DAYLIGHT
TZOFFSETFROM:+0100
TZOFFSETTO:+0200
TZNAME:CEST
DTSTART:20250330T010000
END:DAYLIGHT
BEGIN:STANDARD
TZOFFSETFROM:+0200
TZOFFSETTO:+0100
TZNAME:CET
DTSTART:20251026T010000
END:STANDARD
BEGIN:DAYLIGHT
TZOFFSETFROM:+0100
TZOFFSETTO:+0200
TZNAME:CEST
DTSTART:20260329T010000
END:DAYLIGHT
BEGIN:STANDARD
TZOFFSETFROM:+0200
TZOFFSETTO:+0100
TZNAME:CET
DTSTART:20261025T010000
END:STANDARD
END:VTIMEZONE
BEGIN:VEVENT
DTSTART;TZID=Europe/Berlin:20250104T180000
DTEND;TZID=Europe/Berlin:20250104T210000
DTSTAMP:20260423T040059
CREATED:20241122T183337Z
LAST-MODIFIED:20250526T110628Z
UID:14383-1736013600-1736024400@www.guidorist.com
SUMMARY:Acoustic Waves | Soul & Pop
DESCRIPTION:Acoustic Waves aus Hamburg\, diesmal an der Seite von Volkan Baydar (Orange Blue)\, bieten ausgesuchte Pop Klassiker in einem stilvollen Rahmen abgestimmt auf individuellen Wünsche. Die langjährige Erfahrung der professionellen Musiker verspricht unvergessliche musikalische Stunden für besondere Events wie Hochzeiten\, Geburtstage\, Firmenfeiern etc.
URL:https://www.guidorist.com/event/acoustic-waves-soul-pop-5/
LOCATION:Bar Italia\, Hamburg\, Deutschland
ATTACH;FMTTYPE=image/jpeg:https://www.guidorist.com/wp-content/uploads/2024/11/Acoustic-Waves-8-Volkan.jpg
END:VEVENT
BEGIN:VEVENT
DTSTART;TZID=Europe/Berlin:20250124T180000
DTEND;TZID=Europe/Berlin:20250124T210000
DTSTAMP:20260423T040059
CREATED:20241217T135209Z
LAST-MODIFIED:20250115T140154Z
UID:14426-1737741600-1737752400@www.guidorist.com
SUMMARY:Terri Green | Acoustic Nights
DESCRIPTION:Das Terri Green Project verschmilzt klassischen Soul mit dem heutigen R&B. Die Songwriterin\, Sängerin und Produzentin Terri Green hat zusammen mit dem Komponisten\, Arrangeur und Saxophonisten Toddi Reed alias Torsten Abrolat ihren Groove gefunden und ihre Band an die Spitze der UK Soul und US Indie Soul Charts geführt und das Feuer seit ihrem ersten #1 “Song Night To Remember” in den UK Soul Charts im Jahr 2019 am Brennen gehalten. Gefolgt von ihrem zweiten Album “What A Feeling”\, das ebenfalls Platz 1 der UK Soul Charts erreichte\, erreichten sie mit “Never Gonna Let” ihre erste #1 – Indie Soul Chart Platzierung. Es scheint\, dass die Räder in Bewegung gesetzt werden.
URL:https://www.guidorist.com/event/terri-green-acoustic-nights-2/
LOCATION:Bar Italia\, Hamburg\, Deutschland
ATTACH;FMTTYPE=image/jpeg:https://www.guidorist.com/wp-content/uploads/2023/09/364192596_730235832426290_7179930184175594608_n.jpg
END:VEVENT
END:VCALENDAR