BEGIN:VCALENDAR
VERSION:2.0
PRODID:-//Gitarrenunterricht Hamburg | Guido Bungenstock, Professioneller Gitarrist, Kemper Amp Profiles - ECPv6.15.20//NONSGML v1.0//EN
CALSCALE:GREGORIAN
METHOD:PUBLISH
X-ORIGINAL-URL:https://www.guidorist.com
X-WR-CALDESC:Veranstaltungen für Gitarrenunterricht Hamburg | Guido Bungenstock, Professioneller Gitarrist, Kemper Amp Profiles
REFRESH-INTERVAL;VALUE=DURATION:PT1H
X-Robots-Tag:noindex
X-PUBLISHED-TTL:PT1H
BEGIN:VTIMEZONE
TZID:Europe/Berlin
BEGIN:DAYLIGHT
TZOFFSETFROM:+0100
TZOFFSETTO:+0200
TZNAME:CEST
DTSTART:20230326T010000
END:DAYLIGHT
BEGIN:STANDARD
TZOFFSETFROM:+0200
TZOFFSETTO:+0100
TZNAME:CET
DTSTART:20231029T010000
END:STANDARD
BEGIN:DAYLIGHT
TZOFFSETFROM:+0100
TZOFFSETTO:+0200
TZNAME:CEST
DTSTART:20240331T010000
END:DAYLIGHT
BEGIN:STANDARD
TZOFFSETFROM:+0200
TZOFFSETTO:+0100
TZNAME:CET
DTSTART:20241027T010000
END:STANDARD
BEGIN:DAYLIGHT
TZOFFSETFROM:+0100
TZOFFSETTO:+0200
TZNAME:CEST
DTSTART:20250330T010000
END:DAYLIGHT
BEGIN:STANDARD
TZOFFSETFROM:+0200
TZOFFSETTO:+0100
TZNAME:CET
DTSTART:20251026T010000
END:STANDARD
END:VTIMEZONE
BEGIN:VEVENT
DTSTART;TZID=Europe/Berlin:20240927T180000
DTEND;TZID=Europe/Berlin:20240927T200000
DTSTAMP:20260423T092429
CREATED:20240809T083644Z
LAST-MODIFIED:20240809T083645Z
UID:14232-1727460000-1727467200@www.guidorist.com
SUMMARY:Acoustic Waves | Soul & Pop
DESCRIPTION:Acoustic Waves aus Hamburg\, diesmal an der Seite von Volkan Baydar (Orange Blue)\, bieten ausgesuchte Pop Klassiker in einem stilvollen Rahmen abgestimmt auf individuellen Wünsche. Die langjährige Erfahrung der professionellen Musiker verspricht unvergessliche musikalische Stunden für besondere Events wie Hochzeiten\, Geburtstage\, Firmenfeiern etc.
URL:https://www.guidorist.com/event/acoustic-waves-soul-pop-2/
LOCATION:Bar Italia\, Hamburg\, Deutschland
ATTACH;FMTTYPE=image/jpeg:https://www.guidorist.com/wp-content/uploads/2024/08/Acoustic-Waves-2.5.jpg
END:VEVENT
END:VCALENDAR