BEGIN:VCALENDAR
VERSION:2.0
PRODID:-//Gitarrenunterricht Hamburg | Guido Bungenstock, Professioneller Gitarrist, Kemper Amp Profiles - ECPv6.15.20//NONSGML v1.0//EN
CALSCALE:GREGORIAN
METHOD:PUBLISH
X-ORIGINAL-URL:https://www.guidorist.com
X-WR-CALDESC:Veranstaltungen für Gitarrenunterricht Hamburg | Guido Bungenstock, Professioneller Gitarrist, Kemper Amp Profiles
REFRESH-INTERVAL;VALUE=DURATION:PT1H
X-Robots-Tag:noindex
X-PUBLISHED-TTL:PT1H
BEGIN:VTIMEZONE
TZID:Europe/Berlin
BEGIN:DAYLIGHT
TZOFFSETFROM:+0100
TZOFFSETTO:+0200
TZNAME:CEST
DTSTART:20230326T010000
END:DAYLIGHT
BEGIN:STANDARD
TZOFFSETFROM:+0200
TZOFFSETTO:+0100
TZNAME:CET
DTSTART:20231029T010000
END:STANDARD
BEGIN:DAYLIGHT
TZOFFSETFROM:+0100
TZOFFSETTO:+0200
TZNAME:CEST
DTSTART:20240331T010000
END:DAYLIGHT
BEGIN:STANDARD
TZOFFSETFROM:+0200
TZOFFSETTO:+0100
TZNAME:CET
DTSTART:20241027T010000
END:STANDARD
BEGIN:DAYLIGHT
TZOFFSETFROM:+0100
TZOFFSETTO:+0200
TZNAME:CEST
DTSTART:20250330T010000
END:DAYLIGHT
BEGIN:STANDARD
TZOFFSETFROM:+0200
TZOFFSETTO:+0100
TZNAME:CET
DTSTART:20251026T010000
END:STANDARD
END:VTIMEZONE
BEGIN:VEVENT
DTSTART;TZID=Europe/Berlin:20240802T180000
DTEND;TZID=Europe/Berlin:20240802T210000
DTSTAMP:20260423T104220
CREATED:20240619T094444Z
LAST-MODIFIED:20240708T100914Z
UID:14103-1722621600-1722632400@www.guidorist.com
SUMMARY:Terri Green | Acoustic Nights
DESCRIPTION:Das Terri Green Project verschmilzt klassischen Soul mit dem heutigen R&B. Die Songwriterin\, Sängerin und Produzentin Terri Green hat zusammen mit dem Komponisten\, Arrangeur und Saxophonisten Toddi Reed alias Torsten Abrolat ihren Groove gefunden und ihre Band an die Spitze der UK Soul und US Indie Soul Charts geführt und das Feuer seit ihrem ersten #1 “Song Night To Remember” in den UK Soul Charts im Jahr 2019 am Brennen gehalten. Gefolgt von ihrem zweiten Album “What A Feeling”\, das ebenfalls Platz 1 der UK Soul Charts erreichte\, erreichten sie mit “Never Gonna Let” ihre erste #1 – Indie Soul Chart Platzierung. Es scheint\, dass die Räder in Bewegung gesetzt werden.
URL:https://www.guidorist.com/event/terri-green-acoustic-nights/
LOCATION:Bar Italia\, Hamburg\, Deutschland
ATTACH;FMTTYPE=image/jpeg:https://www.guidorist.com/wp-content/uploads/2023/09/364192596_730235832426290_7179930184175594608_n.jpg
END:VEVENT
BEGIN:VEVENT
DTSTART;TZID=Europe/Berlin:20240822T180000
DTEND;TZID=Europe/Berlin:20240822T210000
DTSTAMP:20260423T104220
CREATED:20240828T144321Z
LAST-MODIFIED:20240828T144912Z
UID:14252-1724349600-1724360400@www.guidorist.com
SUMMARY:The Grade | Varel Live Open Air
DESCRIPTION:The Grade liefern eine professionelle Live-Show mit modern arrangierten Rock-Pop-Hits aus einigen Jahrzehnten. Mit Power und bestem Sound begeistern sie ihr Publikum. The Grade wurde gegründet um bewährten Rock-Pop-Hits einen frischen Anstrich zu geben. Ein feiner Grad an moderner Interpretation unterscheidet sie von üblichen 1:1-Cover-Bands
URL:https://www.guidorist.com/event/the-grade-varel-live-open-air/
LOCATION:Varel Open Air\, Varel\, Niedersachsen\, 26316\, Deutschland
ATTACH;FMTTYPE=image/jpeg:https://www.guidorist.com/wp-content/uploads/2024/08/The-Grade-2-1-scaled.jpg
END:VEVENT
BEGIN:VEVENT
DTSTART;TZID=Europe/Berlin:20240824T093000
DTEND;TZID=Europe/Berlin:20240824T233000
DTSTAMP:20260423T104220
CREATED:20240828T144738Z
LAST-MODIFIED:20240828T144944Z
UID:14256-1724491800-1724542200@www.guidorist.com
SUMMARY:The Grade | Lichterfest
DESCRIPTION:The Grade liefern eine professionelle Live-Show mit modern arrangierten Rock-Pop-Hits aus einigen Jahrzehnten. Mit Power und bestem Sound begeistern sie ihr Publikum. The Grade wurde gegründet um bewährten Rock-Pop-Hits einen frischen Anstrich zu geben. Ein feiner Grad an moderner Interpretation unterscheidet sie von üblichen 1:1-Cover-Bands
URL:https://www.guidorist.com/event/the-grade-lichterfest/
LOCATION:Bad Harzburg\, Bad Harzburg\, Niedersachsen\, 38667
ATTACH;FMTTYPE=image/jpeg:https://www.guidorist.com/wp-content/uploads/2024/08/The-Grade-2-1-scaled.jpg
END:VEVENT
BEGIN:VEVENT
DTSTART;TZID=Europe/Berlin:20240829T180000
DTEND;TZID=Europe/Berlin:20240829T210000
DTSTAMP:20260423T104220
CREATED:20240803T123953Z
LAST-MODIFIED:20240803T125057Z
UID:14201-1724954400-1724965200@www.guidorist.com
SUMMARY:Acoustic Waves | Soul & Pop
DESCRIPTION:Acoustic Waves aus Hamburg\, diesmal an der Seite von Volkan Baydar (Orange Blue)\, bieten ausgesuchte Pop Klassiker in einem stilvollen Rahmen abgestimmt auf individuellen Wünsche. Die langjährige Erfahrung der professionellen Musiker verspricht unvergessliche musikalische Stunden für besondere Events wie Hochzeiten\, Geburtstage\, Firmenfeiern etc.
URL:https://www.guidorist.com/event/acoustic-waves-soul-pop/
LOCATION:Bar Italia\, Hamburg\, Deutschland
ATTACH;FMTTYPE=image/jpeg:https://www.guidorist.com/wp-content/uploads/2024/08/Acoustic-Waves-2.5.jpg
END:VEVENT
BEGIN:VEVENT
DTSTART;TZID=Europe/Berlin:20240830T180000
DTEND;TZID=Europe/Berlin:20240830T200000
DTSTAMP:20260423T104220
CREATED:20240803T125621Z
LAST-MODIFIED:20240803T125621Z
UID:14211-1725040800-1725048000@www.guidorist.com
SUMMARY:Terri Green | Privat Event
DESCRIPTION:Das Terri Green Project verschmilzt klassischen Soul mit dem heutigen R&B. Die Songwriterin\, Sängerin und Produzentin Terri Green hat zusammen mit dem Komponisten\, Arrangeur und Saxophonisten Toddi Reed alias Torsten Abrolat ihren Groove gefunden und ihre Band an die Spitze der UK Soul und US Indie Soul Charts geführt und das Feuer seit ihrem ersten #1 “Song Night To Remember” in den UK Soul Charts im Jahr 2019 am Brennen gehalten. Gefolgt von ihrem zweiten Album “What A Feeling”\, das ebenfalls Platz 1 der UK Soul Charts erreichte\, erreichten sie mit “Never Gonna Let” ihre erste #1 – Indie Soul Chart Platzierung. Es scheint\, dass die Räder in Bewegung gesetzt werden.
URL:https://www.guidorist.com/event/terri-green-privat-event/
ATTACH;FMTTYPE=image/jpeg:https://www.guidorist.com/wp-content/uploads/2023/09/364192596_730235832426290_7179930184175594608_n.jpg
END:VEVENT
END:VCALENDAR