BEGIN:VCALENDAR
VERSION:2.0
PRODID:-//Gitarrenunterricht Hamburg | Guido Bungenstock, Professioneller Gitarrist, Kemper Amp Profiles - ECPv6.15.20//NONSGML v1.0//EN
CALSCALE:GREGORIAN
METHOD:PUBLISH
X-WR-CALNAME:Gitarrenunterricht Hamburg | Guido Bungenstock, Professioneller Gitarrist, Kemper Amp Profiles
X-ORIGINAL-URL:https://www.guidorist.com
X-WR-CALDESC:Veranstaltungen für Gitarrenunterricht Hamburg | Guido Bungenstock, Professioneller Gitarrist, Kemper Amp Profiles
REFRESH-INTERVAL;VALUE=DURATION:PT1H
X-Robots-Tag:noindex
X-PUBLISHED-TTL:PT1H
BEGIN:VTIMEZONE
TZID:Europe/Berlin
BEGIN:DAYLIGHT
TZOFFSETFROM:+0100
TZOFFSETTO:+0200
TZNAME:CEST
DTSTART:20230326T010000
END:DAYLIGHT
BEGIN:STANDARD
TZOFFSETFROM:+0200
TZOFFSETTO:+0100
TZNAME:CET
DTSTART:20231029T010000
END:STANDARD
BEGIN:DAYLIGHT
TZOFFSETFROM:+0100
TZOFFSETTO:+0200
TZNAME:CEST
DTSTART:20240331T010000
END:DAYLIGHT
BEGIN:STANDARD
TZOFFSETFROM:+0200
TZOFFSETTO:+0100
TZNAME:CET
DTSTART:20241027T010000
END:STANDARD
BEGIN:DAYLIGHT
TZOFFSETFROM:+0100
TZOFFSETTO:+0200
TZNAME:CEST
DTSTART:20250330T010000
END:DAYLIGHT
BEGIN:STANDARD
TZOFFSETFROM:+0200
TZOFFSETTO:+0100
TZNAME:CET
DTSTART:20251026T010000
END:STANDARD
END:VTIMEZONE
BEGIN:VEVENT
DTSTART;TZID=Europe/Berlin:20240531T190000
DTEND;TZID=Europe/Berlin:20240531T210000
DTSTAMP:20260423T153809
CREATED:20231102T191631Z
LAST-MODIFIED:20240427T172137Z
UID:13603-1717182000-1717189200@www.guidorist.com
SUMMARY:Ines Omenzetter | Lounge Pop
DESCRIPTION:Ines Omenzetter ist Musikerin\, Sängerin\, Songschreiberin\, Flötistin und arrangiert und produziert ihre Musik selbst. Dabei gelingt es ihr\, einen ganz eigenen musikalischen Stil zu finden\, in der die Querflöte ihr Markenzeichen ist. Sie ist eine Frau von heute und lebt ihre Unabhängigkeit. Die Sängerin ist musikalisch vielseitig und findet immer neue Inspirationen für ihre Songs. Nach ihrem Debutalbum „Angekommen“ veröffentlichte sie mehrere Singels. Sie produziert gerade ihr zweites Album\, das Ende 2023 erscheinen wird.
URL:https://www.guidorist.com/event/ines-omenzetter-lounge-pop-3/
LOCATION:Bürgerhaus Barmbek\, Lorichsstr. 28a\, Hamburg\, 22307\, Deutschland
ATTACH;FMTTYPE=image/jpeg:https://www.guidorist.com/wp-content/uploads/2023/09/InesOmenzetterKampnagelTreppe600.jpg
END:VEVENT
END:VCALENDAR